BEGIN:VCALENDAR
VERSION:2.0
PRODID:-//TYPO3/NONSGML Calendarize//EN
BEGIN:VEVENT
UID:calendarize-doing-democracy-demokratie-gemeinsam-staerken
DTSTAMP:20260421T110838Z
DTSTART:20260506T150000Z
DTEND:20260506T170000Z
SUMMARY:Doing Democracy – Demokratie gemeinsam stärken
DESCRIPTION:17:00 Uhr: Impuls-Vortrag "Die bedingte Universität. Zum ambi
 valenten Verhältnis von Hochschule und Demokratie"\, Prof. Dr. Tom Uhlig\
 , Hochschule RheinMain\nWährend sich das Ideal der Hochschule als eine In
 stitution demokratischer Bildungspraxis beharrlich hält\, wird es von Pre
 karisierungsprozessen und Abhängigkeiten ständig unterminiert. Zeit und 
 Raum sind in fortschreitender Rationalisierung zur knappen Ressource gewor
 den\, jedoch dringend notwendig\, wo Bildung sich nicht im Kompetenzerwerb
  erschöpfen soll. Als Ort gesellschaftlicher Aushandlungen gehen zudem au
 ch antidemokratische Bewegungen nicht spurlos an der Hochschule vorbei. De
 r autoritäre Rechtsruck versucht auch hier Geländegewinne zu erzielen\, 
 wogegen sich bisweilen in ein falschverstandenes Neutralitätsgebot geflü
 chtet wird. Im Vortrag soll das gegenwärtige wie historisch ambivalente V
 erhältnis von Hochschule und Demokratie skizziert und eingeladen werden\,
  über die Möglichkeitsräume einer demokratischen Hochschule zu diskutie
 ren.\nTom Uhlig ist Vertretungsprofessor für Demokratieförderung und Met
 hoden am Fachbereich Sozialwesen der Hochschule RheinMain. Er studierte Ps
 ychologie und promovierte über politische Bildung gegen Antisemitismus. 2
 026 veröffentlichte er gemeinsam mit Nikolas Lelle „Antisemitismus defi
 nieren. Anleitung zur Abgrenzung“ (Verbrecher Verlag). \n17:45 Uhr: Wir
  trainieren unseren "Neugier Muskel" mit einem Trainer von Democracy Fitne
 ss\nab 18:30 Uhr: Zeit für offenen Austausch\nDie Teilnahme ist kostenfre
 i und ohne Anmeldung möglich. \nDie Veranstaltungsreihe ist eine Koopera
 tionsveranstaltung des LehrLernZentrums und des Diversity Teams der Hochsc
 hule RheinMain. Bei Rückfragen zur Veranstaltungsreihe wenden Sie sich ge
 rne hier per E-Mail an das Diversity Team der Hochschule RheinMain.
X-ALT-DESC;FMTTYPE=text/html:<p>17:00 Uhr:<strong> Impuls-Vortrag "Die bed
 ingte Universität. Zum ambivalenten Verhältnis von Hochschule und Demokr
 atie"\, Prof. Dr. Tom Uhlig\, Hochschule RheinMain</strong></p>\n<p>Währe
 nd sich das Ideal der Hochschule als eine Institution demokratischer Bildu
 ngspraxis beharrlich hält\, wird es von Prekarisierungsprozessen und Abhä
 ngigkeiten ständig unterminiert. Zeit und Raum sind in fortschreitender R
 ationalisierung zur knappen Ressource geworden\, jedoch dringend notwendig
 \, wo Bildung sich nicht im Kompetenzerwerb erschöpfen soll. Als Ort gese
 llschaftlicher Aushandlungen gehen zudem auch antidemokratische Bewegungen
  nicht spurlos an der Hochschule vorbei. Der autoritäre Rechtsruck versuc
 ht auch hier Geländegewinne zu erzielen\, wogegen sich bisweilen in ein f
 alschverstandenes Neutralitätsgebot geflüchtet wird. Im Vortrag soll das
  gegenwärtige wie historisch ambivalente Verhältnis von Hochschule und D
 emokratie skizziert und eingeladen werden\, über die Möglichkeitsräume 
 einer demokratischen Hochschule zu diskutieren.</p>\n<p>Tom Uhlig ist Vert
 retungsprofessor für Demokratieförderung und Methoden am Fachbereich Soz
 ialwesen der Hochschule RheinMain. Er studierte Psychologie und promoviert
 e über politische Bildung gegen Antisemitismus. 2026 veröffentlichte er 
 gemeinsam mit Nikolas Lelle „Antisemitismus definieren. Anleitung zur Ab
 grenzung“ (Verbrecher Verlag).<br />&nbsp\;</p>\n<p>17:45 Uhr: <strong>W
 ir trainieren unseren "</strong><i><strong>Neugier Muskel</strong></i><str
 ong>" mit einem Trainer von </strong><i><strong>Democracy Fitness</strong>
 </i></p>\n<p>ab 18:30 Uhr: <strong>Zeit für offenen Austausch</strong></p
 >\n<p><strong>Die Teilnahme ist kostenfrei und ohne Anmeldung möglich.&nb
 sp\;</strong></p>\n<p>Die Veranstaltungsreihe ist eine Kooperationsveranst
 altung des LehrLernZentrums und des Diversity Teams der Hochschule RheinMa
 in. Bei Rückfragen zur Veranstaltungsreihe wenden Sie sich gerne <a href=
 "https://www.hs-rm.de/chancengerechtigkeit/diversity/doing-democracy#">hie
 r </a>per E-Mail an das Diversity Team der Hochschule RheinMain.</p>
LOCATION:Campus Kurt-Schumacher-Ring\, Gebäude L (t3://page?uid=2748)
END:VEVENT
END:VCALENDAR
