BEGIN:VCALENDAR
VERSION:2.0
PRODID:-//TYPO3/NONSGML Calendarize//EN
BEGIN:VEVENT
UID:calendarize-open-campus-2026
DTSTAMP:20260422T133310Z
DTSTART:20260602T073000Z
DTEND:20260602T110000Z
SUMMARY:Open Campus 2026
DESCRIPTION:Wer sich für ein wirtschaftswissenschaftliches Studium intere
 ssiert\, steht oft vor einer entscheidenden Frage: Welche Hochschule passt
  wirklich zu mir? Eine gute Gelegenheit\, das herauszufinden\, bietet der 
 Open Campus des Fachbereichs Wiesbaden Business School.\nAm 02. Juni 2026 
 von 09:30 bis 13 Uhr öffnet der Fachbereich seine Türen und lädt alle S
 tudieninteressierten herzlich dazu ein\, den Campus und das Studienangebot
  aus nächster Nähe kennenzulernen.\nBesucher:innen erwartet ein vielseit
 iges Programm: Ihr erhaltet spannende Einblicke in die verschiedenen Studi
 engänge\, können euch direkt mit Studierenden und Professor:innen austau
 schen und bekommt aus erster Hand einen Eindruck davon\, wie sich das Stud
 ium im Alltag anfühlt. Darüber hinaus gibt es wertvolle Tipps rund um Be
 werbung und Studienstart\, die den Einstieg erleichtern.\nGeführte Rundgä
 nge über den Campus bieten zusätzlich die Möglichkeit\, die Hochschule 
 in entspannter Atmosphäre zu erkunden und die Studienumgebung persönlich
  kennenzulernen.\nWer also nicht nur Informationen sammeln\, sondern echte
  Eindrücke gewinnen möchte\, ist beim Open Campus genau richtig.
X-ALT-DESC;FMTTYPE=text/html:<p>Wer sich für ein wirtschaftswissenschaftl
 iches Studium interessiert\, steht oft vor einer entscheidenden Frage: Wel
 che Hochschule passt wirklich zu mir? Eine gute Gelegenheit\, das herauszu
 finden\, bietet der Open Campus des Fachbereichs Wiesbaden Business School
 .</p>\n<p>Am <strong>02.</strong> <strong>Juni 2026 von 09:30 bis 13 Uhr</
 strong> öffnet der Fachbereich seine Türen und lädt alle Studieninteres
 sierten herzlich dazu ein\, den Campus und das Studienangebot aus nächste
 r Nähe kennenzulernen.</p>\n<p>Besucher:innen erwartet ein vielseitiges P
 rogramm: Ihr erhaltet spannende Einblicke in die verschiedenen Studiengän
 ge\, können euch direkt mit Studierenden und Professor:innen austauschen 
 und bekommt aus erster Hand einen Eindruck davon\, wie sich das Studium im
  Alltag anfühlt. Darüber hinaus gibt es wertvolle Tipps rund um Bewerbun
 g und Studienstart\, die den Einstieg erleichtern.</p>\n<p>Geführte Rundg
 änge über den Campus bieten zusätzlich die Möglichkeit\, die Hochschul
 e in entspannter Atmosphäre zu erkunden und die Studienumgebung persönli
 ch kennenzulernen.</p>\n<p>Wer also nicht nur Informationen sammeln\, sond
 ern echte Eindrücke gewinnen möchte\, ist beim Open Campus genau richtig
 .</p>
LOCATION:Campus Wiesbaden Business School\, Bleichstraße 44
END:VEVENT
END:VCALENDAR
