BEGIN:VCALENDAR
VERSION:2.0
PRODID:-//TYPO3/NONSGML Calendarize//EN
BEGIN:VEVENT
UID:calendarize-hochschultheater-die-physiker-nach-duerrenmatt-20260503-1
DTSTAMP:20260422T154652Z
DTSTART:20260503T160000Z
DTEND:20260503T183000Z
SUMMARY:Hochschultheater: Die Physiker nach Dürrenmatt
DESCRIPTION:Drei Patienten. Drei Lügen. Und eine Psychiatrie\, die zum Sc
 hauplatz eines unsichtbaren Krieges wird.\nIn der eleganten Klinik „Les 
 Cerisiers” leben drei Männer mit ihren Wahnvorstellungen: Einer kommuni
 ziert mit König Salomo\, ein anderer ist überzeugt\, Isaac Newton zu sei
 n und der Dritte hält sich für Albert Einstein. Sie sind Patienten wie a
 lle anderen – zwar intelligent\, aber verloren in ihren eigenen Welten. 
 Als Morde geschehen\, wird eines klar: Hinter den Mauern dieser Anstalt ve
 rbirgt sich ein Geheimnis\, das Menschen tötet. Ein Geheimnis\, das so ge
 fährlich ist\, dass es Männer in den Wahnsinn treibt – oder sie zwingt
 \, den Wahnsinn zu spielen.\nWer sind diese Männer wirklich? Was wollen s
 ie? Und wer ist die eigentliche Bedrohung?\nDürrenmatts Meisterwerk – i
 nszeniert als musikalisches Drama. Ein Abend voller Intrigen\, Humor und d
 er Frage: Wer ist hier wirklich verrückt?\nReflACT – die neu gegründet
 e Theatergruppe der Hochschule RheinMain.\nDas Ensemble ist ein Ort\, an d
 em Studierende gemeinsam Theater gestalten\, Geschichten erzählen und ges
 ellschaftliche Themen auf die Bühne bringen. Die Hochschultheatergruppe w
 urde im Oktober 2025 gegründet. 
X-ALT-DESC;FMTTYPE=text/html:<p><strong>Drei Patienten. Drei Lügen. Und e
 ine Psychiatrie\, die zum Schauplatz eines unsichtbaren Krieges wird.</str
 ong></p>\n<p>In der eleganten Klinik „Les Cerisiers” leben drei Männe
 r mit ihren Wahnvorstellungen: Einer kommuniziert mit König Salomo\, ein 
 anderer ist überzeugt\, Isaac Newton zu sein und der Dritte hält sich fü
 r Albert Einstein. Sie sind Patienten wie alle anderen – zwar intelligen
 t\, aber verloren in ihren eigenen Welten. Als Morde geschehen\, wird eine
 s klar: Hinter den Mauern dieser Anstalt verbirgt sich ein Geheimnis\, das
  Menschen tötet. Ein Geheimnis\, das so gefährlich ist\, dass es Männer
  in den Wahnsinn treibt – oder sie zwingt\, den Wahnsinn zu spielen.</p>
 \n<p>Wer sind diese Männer wirklich? Was wollen sie? Und wer ist die eige
 ntliche Bedrohung?</p>\n<p>Dürrenmatts Meisterwerk – inszeniert als mus
 ikalisches Drama. Ein Abend voller Intrigen\, Humor und der Frage: Wer ist
  hier wirklich verrückt?</p>\n<p><strong>ReflACT – die neu gegründete 
 Theatergruppe der Hochschule RheinMain.</strong></p>\n<p>Das Ensemble ist 
 ein Ort\, an dem Studierende gemeinsam Theater gestalten\, Geschichten erz
 ählen und gesellschaftliche Themen auf die Bühne bringen. Die Hochschult
 heatergruppe wurde im Oktober 2025 gegründet.&nbsp\;</p>
LOCATION:Kultur-Dschungel (https://kultur-dschungel.ditix.shop/)
END:VEVENT
END:VCALENDAR
