BEGIN:VCALENDAR
VERSION:2.0
PRODID:-//TYPO3/NONSGML Calendarize//EN
BEGIN:VEVENT
UID:calendarize-besuch-des-very-large-telescope
DTSTAMP:20260420T112500Z
DTSTART:20260424T173000Z
SUMMARY:Besuch des Very Large Telescope
DESCRIPTION:Der Fachbereich Ingenieurwissenschaften lädt in Kooperation m
 it den Rüsselsheimer Sternfreunden e. V. im Rahmen der Astronomischen Vo
 rtragsreihe für Freitag\, den 24. April 2026 um 19:30 Uhr zu einem Astron
 omie-Vortrag ein.\nDr. Carolin Liefke gibt interessante Einblicke in das V
 ery Large Telescope und berichtet über Beobachtungen\, Technik und besond
 ere Eindrücke rund um eines der beeindruckendsten Teleskope der Welt. Fre
 uen Sie sich auf faszinierende Bilder\, spannende Hintergründe und einen 
 Blick in die moderne Astronomie.\nDer Eintritt ist kostenlos.
X-ALT-DESC;FMTTYPE=text/html:<p>Der Fachbereich <a href="t3://page?uid=93"
  title="Zum Fachbereich Ingenieurwissenschaften">Ingenieurwissenschaften</
 a> lädt in Kooperation mit den Rüsselsheimer Sternfreunden e.&nbsp\;V. i
 m Rahmen der Astronomischen Vortragsreihe für Freitag\, den 24. April 202
 6 um 19:30 Uhr zu einem Astronomie-Vortrag ein.</p>\n<p>Dr. Carolin Liefke
  gibt interessante Einblicke in das Very Large Telescope und berichtet üb
 er Beobachtungen\, Technik und besondere Eindrücke rund um eines der beei
 ndruckendsten Teleskope der Welt. Freuen Sie sich auf faszinierende Bilder
 \, spannende Hintergründe und einen Blick in die moderne Astronomie.</p>\
 n<p>Der Eintritt ist kostenlos.</p>
LOCATION:Hochschule RheinMain\, Campus Rüsselsheim\, Gebäude A\, Raum 03
 8\, Am Brückweg 26 65428 Rüsselsheim
END:VEVENT
END:VCALENDAR
