BEGIN:VCALENDAR
VERSION:2.0
PRODID:-//TYPO3/NONSGML Calendarize//EN
BEGIN:VEVENT
UID:calendarize-info-session-for-new-masters-degree-programmes
DTSTAMP:20260422T083442Z
DTSTART:20260427T143000Z
DTEND:20260427T153000Z
SUMMARY:Info Session für neue Master-Studiengänge
DESCRIPTION:Im Wintersemester 2026/27 starten unsere neuen Masterprogramme
 . Welche Inhalte die beiden Master vermitteln\, welche Voraussetzungen Int
 eressierte erfüllen müssen\, wie man sich bewerben kann und weitere Info
 rmationen erhältst du in der HSRM Online Info Session.\nHSRM Online Info 
 Session für Master Applied Physics & Master Biomedical Engineering\nMonta
 g\, 27. April 2026\, 4:30 pm-5:30 pm CET\nAccess via Zoom https://hs-rm.z
 oom-x.de/j/63112835665\nMeeting-ID: 631 1283 5665 
X-ALT-DESC;FMTTYPE=text/html:<p>Im Wintersemester 2026/27 starten unsere n
 euen Masterprogramme. Welche Inhalte die beiden Master vermitteln\, welche
  Voraussetzungen Interessierte erfüllen müssen\, wie man sich bewerben k
 ann und weitere Informationen erhältst du in der HSRM Online Info Session
 .</p>\n<p>HSRM Online Info Session für Master Applied Physics &amp\; Mast
 er Biomedical Engineering</p>\n<p>Montag\, 27. April 2026\, 4:30 pm-5:30 p
 m CET</p>\n<p>Access via Zoom&nbsp\;<br /><a href="https://hs-rm.zoom-x.de
 /j/63112835665">https://hs-rm.zoom-x.de/j/63112835665</a></p>\n<p>Meeting-
 ID: 631 1283 5665&nbsp\;</p>
LOCATION:Zoom-Meeting (https://hs-rm.zoom-x.de/j/63112835665)
END:VEVENT
END:VCALENDAR
