BEGIN:VCALENDAR
VERSION:2.0
PRODID:-//TYPO3/NONSGML Calendarize//EN
BEGIN:VEVENT
UID:calendarize-info-session-for-new-masters-degree-programmes
DTSTAMP:20260422T084915Z
DTSTART:20260427T143000Z
DTEND:20260427T153000Z
SUMMARY:Info session for new master's degree programs
DESCRIPTION:Our new Master's programs will start in the winter semester 20
 26/27. You can find out what content the two Master's degrees teach\, what
  requirements those interested must meet\, how to apply for them and furth
 er information in the HSRM Online Info Session.\nHSRM Online Info Session 
 for Master's degree in Applied Physics & Master's degree in Biomedical Eng
 ineering\nMonday 27th of April 2026\, 4:30 pm-5:30 pm CET\nAccess via Zoom
  https://hs-rm.zoom-x.de/j/63112835665\nMeeting ID: 631 1283 5665
X-ALT-DESC;FMTTYPE=text/html:<p>Our new Master's programs will start in th
 e winter semester 2026/27. You can find out what content the two Master's 
 degrees teach\, what requirements those interested must meet\, how to appl
 y for them and further information in the HSRM Online Info Session.</p>\n<
 p>HSRM Online Info Session for Master's degree in Applied Physics &amp\; M
 aster's degree in Biomedical Engineering</p>\n<p>Monday 27th of April 2026
 \, 4:30 pm-5:30 pm CET</p>\n<p>Access via Zoom&nbsp\;<br /><a href="https:
 //hs-rm.zoom-x.de/j/63112835665">https://hs-rm.zoom-x.de/j/63112835665</a>
 </p>\n<p>Meeting ID: 631 1283 5665</p>
LOCATION:Zoom-Meeting (https://hs-rm.zoom-x.de/j/63112835665)
END:VEVENT
END:VCALENDAR
