BEGIN:VCALENDAR
VERSION:2.0
PRODID:-//TYPO3/NONSGML Calendarize//EN
BEGIN:VEVENT
UID:calendarize-wiesbaden-engagiert
DTSTAMP:20260415T125921Z
DTSTART;VALUE=DATE:20260612
DTEND;VALUE=DATE:20260620
SUMMARY:Wiesbaden engagiert
DESCRIPTION:Wie schon im letzten Jahr werden Mitarbeiter:innen des Fachber
 eichs Architektur und Bauingeniuerwesen im Rahmen des Aktionstags “Wiesb
 aden engagiert” eine Schule bei Renovierungsarbeiten unterstützen.
X-ALT-DESC;FMTTYPE=text/html:<p>Wie schon im letzten Jahr werden Mitarbeit
 er:innen des Fachbereichs Architektur und Bauingeniuerwesen im Rahmen des 
 Aktionstags <a href="https://aktionswoche-wiesbaden-engagiert.de/" target=
 "_blank">“Wiesbaden engagiert”</a> eine Schule bei Renovierungsarbeite
 n unterstützen.</p>
LOCATION:Wiesbaden
END:VEVENT
END:VCALENDAR
